BEGIN:VCALENDAR
PRODID:-//eluceo/ical//2.0/EN
VERSION:2.0
CALSCALE:GREGORIAN
BEGIN:VEVENT
UID:68f178219a939daf9c5909d49ca81687
DTSTAMP:20260423T022716Z
SUMMARY:Congregation Beth Israel Hanukkah Party
DESCRIPTION:Jewish Federation of Central Massachusetts\nCalendar\nhttps://j
 ewishcentralmass.org/calendar/19cal590\n\nCongregation Beth Israel Hanukka
 h Party
DTSTART;TZID=America/New_York:20181205T180000
DTEND;TZID=America/New_York:20181205T235959
END:VEVENT
END:VCALENDAR
