BEGIN:VCALENDAR
PRODID:-//eluceo/ical//2.0/EN
VERSION:2.0
CALSCALE:GREGORIAN
BEGIN:VEVENT
UID:a2107b3a2e3e084624a3e252c2fbba66
DTSTAMP:20260425T033603Z
SUMMARY:Beth Tikvah Hanukkah Party
DESCRIPTION:Jewish Federation of Central Massachusetts\nCalendar\nhttps://j
 ewishcentralmass.org/calendar/19cal589\n\nBeth Tikvah Hanukkah Party
DTSTART;TZID=America/New_York:20181205T180000
DTEND;TZID=America/New_York:20181205T235959
END:VEVENT
END:VCALENDAR
