BEGIN:VCALENDAR
PRODID:-//eluceo/ical//2.0/EN
VERSION:2.0
CALSCALE:GREGORIAN
BEGIN:VEVENT
UID:8c7c9fcb3b6e521b12c1daabc022fa31
DTSTAMP:20260424T094932Z
SUMMARY:Erev Hanukkah
DESCRIPTION:Jewish Federation of Central Massachusetts\nCalendar\nhttps://j
 ewishcentralmass.org/calendar/19cal586\n\nErev Hanukkah
DTSTART;TZID=America/New_York:20181202T180000
DTEND;TZID=America/New_York:20181202T235959
END:VEVENT
END:VCALENDAR
