BEGIN:VCALENDAR
PRODID:-//eluceo/ical//2.0/EN
VERSION:2.0
CALSCALE:GREGORIAN
BEGIN:VEVENT
UID:8629050313747507420fa07357adfeb1
DTSTAMP:20260423T195911Z
SUMMARY:Temple Emanuel Sinai Hanukkah Party
DESCRIPTION:Jewish Federation of Central Massachusetts\nCalendar\nhttps://j
 ewishcentralmass.org/calendar/19cal585\n\nTemple Emanuel Sinai Hanukkah Pa
 rty
DTSTART;TZID=America/New_York:20181202T173000
DTEND;TZID=America/New_York:20181202T235959
END:VEVENT
END:VCALENDAR
