BEGIN:VCALENDAR
PRODID:-//eluceo/ical//2.0/EN
VERSION:2.0
CALSCALE:GREGORIAN
BEGIN:VEVENT
UID:6768f9fcd22ecd0c37bfedea67b8b0aa
DTSTAMP:20260423T172947Z
SUMMARY:Jewish Community Center Hanukkah Event
DESCRIPTION:Jewish Federation of Central Massachusetts\nCalendar\nhttps://j
 ewishcentralmass.org/calendar/19cal584\n\nJewish Community Center Hanukkah
  Event
DTSTART;TZID=America/New_York:20181202T140000
DTEND;TZID=America/New_York:20181202T235959
END:VEVENT
END:VCALENDAR
