BEGIN:VCALENDAR
PRODID:-//eluceo/ical//2.0/EN
VERSION:2.0
CALSCALE:GREGORIAN
BEGIN:VEVENT
UID:4411210a4ea185e6b0f17c6532dca812
DTSTAMP:20260423T100313Z
SUMMARY:Congregation Beth Israel Brotherhood Breakfast
DESCRIPTION:Jewish Federation of Central Massachusetts\nCalendar\nhttps://j
 ewishcentralmass.org/calendar/19cal583\n\nCongregation Beth Israel Brother
 hood Breakfast
DTSTART;TZID=America/New_York:20181202T093000
DTEND;TZID=America/New_York:20181202T235959
END:VEVENT
END:VCALENDAR
