BEGIN:VCALENDAR
PRODID:-//eluceo/ical//2.0/EN
VERSION:2.0
CALSCALE:GREGORIAN
BEGIN:VEVENT
UID:641b83ede633117e982dfd95ac30b6bc
DTSTAMP:20260424T130014Z
SUMMARY:Hanukkah
DESCRIPTION:Jewish Federation of Central Massachusetts\nCalendar\nhttps://j
 ewishcentralmass.org/calendar/19cal582\n\nHanukkah
DTSTART;TZID=America/New_York:20181202T000100
DTEND;TZID=America/New_York:20181210T235959
END:VEVENT
END:VCALENDAR
