BEGIN:VCALENDAR
PRODID:-//eluceo/ical//2.0/EN
VERSION:2.0
CALSCALE:GREGORIAN
BEGIN:VEVENT
UID:bf45a73b16f30e289c0d82959fb01286
DTSTAMP:20260423T143931Z
SUMMARY:Congregation Beth Israel Board Meeting
DESCRIPTION:Jewish Federation of Central Massachusetts\nCalendar\nhttps://j
 ewishcentralmass.org/calendar/19cal581\n\nCongregation Beth Israel Board M
 eeting
DTSTART;TZID=America/New_York:20181129T193000
DTEND;TZID=America/New_York:20181129T235959
END:VEVENT
END:VCALENDAR
