BEGIN:VCALENDAR
PRODID:-//eluceo/ical//2.0/EN
VERSION:2.0
CALSCALE:GREGORIAN
BEGIN:VEVENT
UID:798fe8caf2b0584dd1498bb4272655d4
DTSTAMP:20260424T035517Z
SUMMARY:Jewish Worcester Historical Society Event
DESCRIPTION:Jewish Federation of Central Massachusetts\nCalendar\nhttps://j
 ewishcentralmass.org/calendar/19cal580\n\nJewish Worcester Historical Soci
 ety Event
DTSTART;TZID=America/New_York:20181129T180000
DTEND;TZID=America/New_York:20181129T235959
END:VEVENT
END:VCALENDAR
