BEGIN:VCALENDAR
PRODID:-//eluceo/ical//2.0/EN
VERSION:2.0
CALSCALE:GREGORIAN
BEGIN:VEVENT
UID:fd2268249544690d380379ce9fe86377
DTSTAMP:20260423T021914Z
SUMMARY:Congregation B'nai Shalom Board Meeting
DESCRIPTION:Jewish Federation of Central Massachusetts\nCalendar\nhttps://j
 ewishcentralmass.org/calendar/19cal579\n\nCongregation B'nai Shalom Board 
 Meeting
DTSTART;TZID=America/New_York:20181128T193000
DTEND;TZID=America/New_York:20181128T235959
END:VEVENT
END:VCALENDAR
