BEGIN:VCALENDAR
PRODID:-//eluceo/ical//2.0/EN
VERSION:2.0
CALSCALE:GREGORIAN
BEGIN:VEVENT
UID:7dbfed2c0539dd25d12ba25355a1036a
DTSTAMP:20260422T211613Z
SUMMARY:Jewish Community Center Finance Committee
DESCRIPTION:Jewish Federation of Central Massachusetts\nCalendar\nhttps://j
 ewishcentralmass.org/calendar/19cal578\n\nJewish Community Center Finance 
 Committee
DTSTART;TZID=America/New_York:20181126T193000
DTEND;TZID=America/New_York:20181126T235959
END:VEVENT
END:VCALENDAR
