BEGIN:VCALENDAR
PRODID:-//eluceo/ical//2.0/EN
VERSION:2.0
CALSCALE:GREGORIAN
BEGIN:VEVENT
UID:875308f2281615cfb18286defd65f265
DTSTAMP:20260424T061018Z
SUMMARY:Thanksgiving
DESCRIPTION:Jewish Federation of Central Massachusetts\nCalendar\nhttps://j
 ewishcentralmass.org/calendar/19cal577\n\nThanksgiving
DTSTART;TZID=America/New_York:20181122T000100
DTEND;TZID=America/New_York:20181122T235959
END:VEVENT
END:VCALENDAR
