BEGIN:VCALENDAR
PRODID:-//eluceo/ical//2.0/EN
VERSION:2.0
CALSCALE:GREGORIAN
BEGIN:VEVENT
UID:15be953cd2ce75eb2f2a19abaf97b82f
DTSTAMP:20260423T143105Z
SUMMARY:Temple Emanuel Sinai Brotherhood Breakfast
DESCRIPTION:Jewish Federation of Central Massachusetts\nCalendar\nhttps://j
 ewishcentralmass.org/calendar/19cal576\n\nTemple Emanuel Sinai Brotherhood
  Breakfast
DTSTART;TZID=America/New_York:20181118T094500
DTEND;TZID=America/New_York:20181118T235959
END:VEVENT
END:VCALENDAR
