BEGIN:VCALENDAR
PRODID:-//eluceo/ical//2.0/EN
VERSION:2.0
CALSCALE:GREGORIAN
BEGIN:VEVENT
UID:3a6288f9f3327669b2eb0c23e521df5a
DTSTAMP:20260425T122722Z
SUMMARY:PJ Library @ Beth Tikvah
DESCRIPTION:Jewish Federation of Central Massachusetts\nCalendar\nhttps://j
 ewishcentralmass.org/calendar/19cal575\n\nPJ Library @ Beth Tikvah
DTSTART;TZID=America/New_York:20181118T090000
DTEND;TZID=America/New_York:20181118T235959
END:VEVENT
END:VCALENDAR
