BEGIN:VCALENDAR
PRODID:-//eluceo/ical//2.0/EN
VERSION:2.0
CALSCALE:GREGORIAN
BEGIN:VEVENT
UID:2a19210b4ea67097d0d55ffb04d7edcd
DTSTAMP:20260422T184405Z
SUMMARY:Jewish Federation of Central Mass Torathon
DESCRIPTION:Jewish Federation of Central Massachusetts\nCalendar\nhttps://j
 ewishcentralmass.org/calendar/19cal574\n\nJewish Federation of Central Mas
 s Torathon
DTSTART;TZID=America/New_York:20181117T180000
DTEND;TZID=America/New_York:20181117T235959
END:VEVENT
END:VCALENDAR
