BEGIN:VCALENDAR
PRODID:-//eluceo/ical//2.0/EN
VERSION:2.0
CALSCALE:GREGORIAN
BEGIN:VEVENT
UID:4f9358ef5bbe1efa9be6f851ba5f4b51
DTSTAMP:20260424T143021Z
SUMMARY:Jewish Community Center Donor Appreciation Dinner
DESCRIPTION:Jewish Federation of Central Massachusetts\nCalendar\nhttps://j
 ewishcentralmass.org/calendar/19cal573\n\nJewish Community Center Donor Ap
 preciation Dinner
DTSTART;TZID=America/New_York:20181115T180000
DTEND;TZID=America/New_York:20181115T235959
END:VEVENT
END:VCALENDAR
