BEGIN:VCALENDAR
PRODID:-//eluceo/ical//2.0/EN
VERSION:2.0
CALSCALE:GREGORIAN
BEGIN:VEVENT
UID:7a27b620af2d753d05bab14e8875755d
DTSTAMP:20260424T095358Z
SUMMARY:Veterans Day
DESCRIPTION:Jewish Federation of Central Massachusetts\nCalendar\nhttps://j
 ewishcentralmass.org/calendar/19cal570\n\nVeterans Day
DTSTART;TZID=America/New_York:20181111T000100
DTEND;TZID=America/New_York:20181111T235959
END:VEVENT
END:VCALENDAR
