BEGIN:VCALENDAR
PRODID:-//eluceo/ical//2.0/EN
VERSION:2.0
CALSCALE:GREGORIAN
BEGIN:VEVENT
UID:ba00403abb641d3f8c5510cd95bab347
DTSTAMP:20260422T235850Z
SUMMARY:Jewish Community Center Board Meeting
DESCRIPTION:Jewish Federation of Central Massachusetts\nCalendar\nhttps://j
 ewishcentralmass.org/calendar/19cal569\n\nJewish Community Center Board Me
 eting
DTSTART;TZID=America/New_York:20181108T193000
DTEND;TZID=America/New_York:20181108T235959
END:VEVENT
END:VCALENDAR
