BEGIN:VCALENDAR
PRODID:-//eluceo/ical//2.0/EN
VERSION:2.0
CALSCALE:GREGORIAN
BEGIN:VEVENT
UID:16707a95477ae8fd3dd2ba736434d337
DTSTAMP:20260422T070612Z
SUMMARY:Jewish Federation of Central Mass Board Meeting
DESCRIPTION:Jewish Federation of Central Massachusetts\nCalendar\nhttps://j
 ewishcentralmass.org/calendar/19cal568\n\nJewish Federation of Central Mas
 s Board Meeting
DTSTART;TZID=America/New_York:20181106T193000
DTEND;TZID=America/New_York:20181106T235959
END:VEVENT
END:VCALENDAR
