BEGIN:VCALENDAR
PRODID:-//eluceo/ical//2.0/EN
VERSION:2.0
CALSCALE:GREGORIAN
BEGIN:VEVENT
UID:aa495a68db9580267d7c74803d2f10a2
DTSTAMP:20260422T095231Z
SUMMARY:SUPER SUNDAY
DESCRIPTION:Jewish Federation of Central Massachusetts\nCalendar\nhttps://j
 ewishcentralmass.org/calendar/19cal565\n\nSUPER SUNDAY
DTSTART;TZID=America/New_York:20181104T090000
DTEND;TZID=America/New_York:20181104T235959
END:VEVENT
END:VCALENDAR
