BEGIN:VCALENDAR
PRODID:-//eluceo/ical//2.0/EN
VERSION:2.0
CALSCALE:GREGORIAN
BEGIN:VEVENT
UID:6e2ad630101ca1ed4b1c8363d61ff0f7
DTSTAMP:20260422T204511Z
SUMMARY:Temple Emanuel Sinai Chocolate Festival
DESCRIPTION:Jewish Federation of Central Massachusetts\nCalendar\nhttps://j
 ewishcentralmass.org/calendar/19cal564\n\nTemple Emanuel Sinai Chocolate F
 estival
DTSTART;TZID=America/New_York:20181103T190000
DTEND;TZID=America/New_York:20181103T235959
END:VEVENT
END:VCALENDAR
