BEGIN:VCALENDAR
PRODID:-//eluceo/ical//2.0/EN
VERSION:2.0
CALSCALE:GREGORIAN
BEGIN:VEVENT
UID:68810d00e4e5483c634e61953ea2f8dc
DTSTAMP:20260422T131459Z
SUMMARY:JFCM Event featuring Neal Lazarus
DESCRIPTION:Jewish Federation of Central Massachusetts\nCalendar\nhttps://j
 ewishcentralmass.org/calendar/19cal563\n\nJFCM Event featuring Neal Lazaru
 s
DTSTART;TZID=America/New_York:20181101T000000
DTEND;TZID=America/New_York:20181101T235959
END:VEVENT
END:VCALENDAR
