BEGIN:VCALENDAR
PRODID:-//eluceo/ical//2.0/EN
VERSION:2.0
CALSCALE:GREGORIAN
BEGIN:VEVENT
UID:3ed356393d9d17511e2c662ce4ce2b36
DTSTAMP:20260421T083137Z
SUMMARY:Congregation B'nai Shalom Chanting Circle
DESCRIPTION:Jewish Federation of Central Massachusetts\nCalendar\nhttps://j
 ewishcentralmass.org/calendar/19cal562\n\nCongregation B'nai Shalom Chanti
 ng Circle
DTSTART;TZID=America/New_York:20181030T193000
DTEND;TZID=America/New_York:20181030T235959
END:VEVENT
END:VCALENDAR
