BEGIN:VCALENDAR
PRODID:-//eluceo/ical//2.0/EN
VERSION:2.0
CALSCALE:GREGORIAN
BEGIN:VEVENT
UID:6738d7eb19206c4b2bcea4851105af2e
DTSTAMP:20260421T233152Z
SUMMARY:JFCM Historical Society/Geneology Program
DESCRIPTION:Jewish Federation of Central Massachusetts\nCalendar\nhttps://j
 ewishcentralmass.org/calendar/19cal561\n\nJFCM Historical Society/Geneolog
 y Program
DTSTART;TZID=America/New_York:20181030T190000
DTEND;TZID=America/New_York:20181030T235959
END:VEVENT
END:VCALENDAR
