BEGIN:VCALENDAR
PRODID:-//eluceo/ical//2.0/EN
VERSION:2.0
CALSCALE:GREGORIAN
BEGIN:VEVENT
UID:4e3a1574da33990525ec85dd00aa13fc
DTSTAMP:20260423T225038Z
SUMMARY:Temple Emanuel Sinai Arts Matter Music Lecture
DESCRIPTION:Jewish Federation of Central Massachusetts\nCalendar\nhttps://j
 ewishcentralmass.org/calendar/19cal558\n\nTemple Emanuel Sinai Arts Matter
  Music Lecture
DTSTART;TZID=America/New_York:20181026T183000
DTEND;TZID=America/New_York:20181026T235959
END:VEVENT
END:VCALENDAR
