BEGIN:VCALENDAR
PRODID:-//eluceo/ical//2.0/EN
VERSION:2.0
CALSCALE:GREGORIAN
BEGIN:VEVENT
UID:0d2dd1b2449340595fdf8d2eba9cc3ba
DTSTAMP:20260423T155702Z
SUMMARY:Jewish Community Center Mah Jong Day
DESCRIPTION:Jewish Federation of Central Massachusetts\nCalendar\nhttps://j
 ewishcentralmass.org/calendar/19cal555\n\nJewish Community Center Mah Jong
  Day
DTSTART;TZID=America/New_York:20181024T100000
DTEND;TZID=America/New_York:20181024T235959
END:VEVENT
END:VCALENDAR
