BEGIN:VCALENDAR
PRODID:-//eluceo/ical//2.0/EN
VERSION:2.0
CALSCALE:GREGORIAN
BEGIN:VEVENT
UID:e2138fc56d4c5485602aa6f2e6352a53
DTSTAMP:20260421T131851Z
SUMMARY:Beth Tikvah Bingo Event
DESCRIPTION:Jewish Federation of Central Massachusetts\nCalendar\nhttps://j
 ewishcentralmass.org/calendar/19cal553\n\nBeth Tikvah Bingo Event
DTSTART;TZID=America/New_York:20181020T180000
DTEND;TZID=America/New_York:20181020T235959
END:VEVENT
END:VCALENDAR
