BEGIN:VCALENDAR
PRODID:-//eluceo/ical//2.0/EN
VERSION:2.0
CALSCALE:GREGORIAN
BEGIN:VEVENT
UID:91b2a31546b9905020e969945c6580b1
DTSTAMP:20260423T171813Z
SUMMARY:Jewish Federation of Central Mass Life & Legacy Workshop
DESCRIPTION:Jewish Federation of Central Massachusetts\nCalendar\nhttps://j
 ewishcentralmass.org/calendar/19cal551\n\nJewish Federation of Central Mas
 s Life & Legacy Workshop
DTSTART;TZID=America/New_York:20181016T180000
DTEND;TZID=America/New_York:20181016T235959
END:VEVENT
END:VCALENDAR
