BEGIN:VCALENDAR
PRODID:-//eluceo/ical//2.0/EN
VERSION:2.0
CALSCALE:GREGORIAN
BEGIN:VEVENT
UID:8b7388b3730264d11e23574993ab76e4
DTSTAMP:20260422T021509Z
SUMMARY:JFCM Latino-Jewish Roundtable Event
DESCRIPTION:Jewish Federation of Central Massachusetts\nCalendar\nhttps://j
 ewishcentralmass.org/calendar/19cal550\n\nJFCM Latino-Jewish Roundtable Ev
 ent
DTSTART;TZID=America/New_York:20181014T190000
DTEND;TZID=America/New_York:20181014T235959
END:VEVENT
END:VCALENDAR
