BEGIN:VCALENDAR
PRODID:-//eluceo/ical//2.0/EN
VERSION:2.0
CALSCALE:GREGORIAN
BEGIN:VEVENT
UID:c2822955a0cf9f04cb752b986d8854a6
DTSTAMP:20260422T085253Z
SUMMARY:PJ Library @ Beth Tikvah
DESCRIPTION:Jewish Federation of Central Massachusetts\nCalendar\nhttps://j
 ewishcentralmass.org/calendar/19cal548\n\nPJ Library @ Beth Tikvah
DTSTART;TZID=America/New_York:20181014T090000
DTEND;TZID=America/New_York:20181014T235959
END:VEVENT
END:VCALENDAR
