BEGIN:VCALENDAR
PRODID:-//eluceo/ical//2.0/EN
VERSION:2.0
CALSCALE:GREGORIAN
BEGIN:VEVENT
UID:5f23d88c18cc26fef974060d409a42d0
DTSTAMP:20260421T161854Z
SUMMARY:Jewish Community Center Author Series
DESCRIPTION:Jewish Federation of Central Massachusetts\nCalendar\nhttps://j
 ewishcentralmass.org/calendar/19cal547\n\nJewish Community Center Author S
 eries
DTSTART;TZID=America/New_York:20181010T190000
DTEND;TZID=America/New_York:20181010T210000
END:VEVENT
END:VCALENDAR
