BEGIN:VCALENDAR
PRODID:-//eluceo/ical//2.0/EN
VERSION:2.0
CALSCALE:GREGORIAN
BEGIN:VEVENT
UID:6d9a3e54c01c9a44b31b0ab1a8e766a0
DTSTAMP:20260423T132422Z
SUMMARY:Beth Tikvah Board Meeting
DESCRIPTION:Jewish Federation of Central Massachusetts\nCalendar\nhttps://j
 ewishcentralmass.org/calendar/19cal546\n\nBeth Tikvah Board Meeting
DTSTART;TZID=America/New_York:20181010T190000
DTEND;TZID=America/New_York:20181010T235959
END:VEVENT
END:VCALENDAR
