BEGIN:VCALENDAR
PRODID:-//eluceo/ical//2.0/EN
VERSION:2.0
CALSCALE:GREGORIAN
BEGIN:VEVENT
UID:a41329f4c49667bed5a463f5b4f8b8e4
DTSTAMP:20260422T200903Z
SUMMARY:Jewish Community Center Board Meeting
DESCRIPTION:Jewish Federation of Central Massachusetts\nCalendar\nhttps://j
 ewishcentralmass.org/calendar/19cal544\n\nJewish Community Center Board Me
 eting
DTSTART;TZID=America/New_York:20181004T193000
DTEND;TZID=America/New_York:20181004T235959
END:VEVENT
END:VCALENDAR
