BEGIN:VCALENDAR
PRODID:-//eluceo/ical//2.0/EN
VERSION:2.0
CALSCALE:GREGORIAN
BEGIN:VEVENT
UID:df463bc65f43d5423e2ff898b13dd2db
DTSTAMP:20260423T223949Z
SUMMARY:Congregation B'nai Shalom 1st night Chai School
DESCRIPTION:Jewish Federation of Central Massachusetts\nCalendar\nhttps://j
 ewishcentralmass.org/calendar/19cal543\n\nCongregation B'nai Shalom 1st ni
 ght Chai School
DTSTART;TZID=America/New_York:20181002T180000
DTEND;TZID=America/New_York:20181002T235959
END:VEVENT
END:VCALENDAR
