BEGIN:VCALENDAR
PRODID:-//eluceo/ical//2.0/EN
VERSION:2.0
CALSCALE:GREGORIAN
BEGIN:VEVENT
UID:b56765ec7ba4a4f63983f22d1fa5e3c5
DTSTAMP:20260423T063140Z
SUMMARY:Simchat Torah
DESCRIPTION:Jewish Federation of Central Massachusetts\nCalendar\nhttps://j
 ewishcentralmass.org/calendar/19cal542\n\nSimchat Torah
DTSTART;TZID=America/New_York:20181002T000100
DTEND;TZID=America/New_York:20181002T235959
END:VEVENT
END:VCALENDAR
