BEGIN:VCALENDAR
PRODID:-//eluceo/ical//2.0/EN
VERSION:2.0
CALSCALE:GREGORIAN
BEGIN:VEVENT
UID:f8c75a86fb3c1747a934e3736e517dd5
DTSTAMP:20260423T012132Z
SUMMARY:Shemini Atzeret
DESCRIPTION:Jewish Federation of Central Massachusetts\nCalendar\nhttps://j
 ewishcentralmass.org/calendar/19cal541\n\nShemini Atzeret
DTSTART;TZID=America/New_York:20181001T000100
DTEND;TZID=America/New_York:20181001T235959
END:VEVENT
END:VCALENDAR
