BEGIN:VCALENDAR
PRODID:-//eluceo/ical//2.0/EN
VERSION:2.0
CALSCALE:GREGORIAN
BEGIN:VEVENT
UID:a44a42323cf9c66f68b3e65a0492347a
DTSTAMP:20260422T152913Z
SUMMARY:Congregation B'nai Shalom 1st day of school & welcome back bbq
DESCRIPTION:Jewish Federation of Central Massachusetts\nCalendar\nhttps://j
 ewishcentralmass.org/calendar/19cal540\n\nCongregation B'nai Shalom 1st da
 y of school & welcome back bbq
DTSTART;TZID=America/New_York:20180930T113000
DTEND;TZID=America/New_York:20180930T235959
END:VEVENT
END:VCALENDAR
