BEGIN:VCALENDAR
PRODID:-//eluceo/ical//2.0/EN
VERSION:2.0
CALSCALE:GREGORIAN
BEGIN:VEVENT
UID:6990033f2dfbc3b8695b6368deb88b39
DTSTAMP:20260423T044952Z
SUMMARY:Jewish Community Center JWV Breakfast
DESCRIPTION:Jewish Federation of Central Massachusetts\nCalendar\nhttps://j
 ewishcentralmass.org/calendar/19cal539\n\nJewish Community Center JWV Brea
 kfast
DTSTART;TZID=America/New_York:20180930T100000
DTEND;TZID=America/New_York:20180930T235959
END:VEVENT
END:VCALENDAR
