BEGIN:VCALENDAR
PRODID:-//eluceo/ical//2.0/EN
VERSION:2.0
CALSCALE:GREGORIAN
BEGIN:VEVENT
UID:3b586ff6bfb283fb9168c226ff9f1754
DTSTAMP:20260421T194716Z
SUMMARY:Congregation Beth Israel USY Sukkot Hop
DESCRIPTION:Jewish Federation of Central Massachusetts\nCalendar\nhttps://j
 ewishcentralmass.org/calendar/19cal538\n\nCongregation Beth Israel USY Suk
 kot Hop
DTSTART;TZID=America/New_York:20180930T090000
DTEND;TZID=America/New_York:20180930T235959
END:VEVENT
END:VCALENDAR
