BEGIN:VCALENDAR
PRODID:-//eluceo/ical//2.0/EN
VERSION:2.0
CALSCALE:GREGORIAN
BEGIN:VEVENT
UID:705310eff50a9a35f95876dc82d6f225
DTSTAMP:20260424T064135Z
SUMMARY:Congregation Beth Israel Board Meeting
DESCRIPTION:Jewish Federation of Central Massachusetts\nCalendar\nhttps://j
 ewishcentralmass.org/calendar/19cal536\n\nCongregation Beth Israel Board M
 eeting
DTSTART;TZID=America/New_York:20180927T193000
DTEND;TZID=America/New_York:20180927T235959
END:VEVENT
END:VCALENDAR
