BEGIN:VCALENDAR
PRODID:-//eluceo/ical//2.0/EN
VERSION:2.0
CALSCALE:GREGORIAN
BEGIN:VEVENT
UID:47872dab23258beef7e1fe7e844b0d7c
DTSTAMP:20260423T032258Z
SUMMARY:Jewish Community Center Finance Committee
DESCRIPTION:Jewish Federation of Central Massachusetts\nCalendar\nhttps://j
 ewishcentralmass.org/calendar/19cal535\n\nJewish Community Center Finance 
 Committee
DTSTART;TZID=America/New_York:20180926T193000
DTEND;TZID=America/New_York:20180926T235959
END:VEVENT
END:VCALENDAR
