BEGIN:VCALENDAR
PRODID:-//eluceo/ical//2.0/EN
VERSION:2.0
CALSCALE:GREGORIAN
BEGIN:VEVENT
UID:9488a3c2c9994ea3e87acc272e4a6f57
DTSTAMP:20260423T010031Z
SUMMARY:Sukkot
DESCRIPTION:Jewish Federation of Central Massachusetts\nCalendar\nhttps://j
 ewishcentralmass.org/calendar/19cal534\n\nSukkot
DTSTART;TZID=America/New_York:20180923T180000
DTEND;TZID=America/New_York:20180929T235959
END:VEVENT
END:VCALENDAR
