BEGIN:VCALENDAR
PRODID:-//eluceo/ical//2.0/EN
VERSION:2.0
CALSCALE:GREGORIAN
BEGIN:VEVENT
UID:1b5489d095f5f8c471ad1557b02c535a
DTSTAMP:20260423T004351Z
SUMMARY:Jewish Healthcare Center Road Race
DESCRIPTION:Jewish Federation of Central Massachusetts\nCalendar\nhttps://j
 ewishcentralmass.org/calendar/19cal533\n\nJewish Healthcare Center Road Ra
 ce
DTSTART;TZID=America/New_York:20180923T100000
DTEND;TZID=America/New_York:20180923T235959
END:VEVENT
END:VCALENDAR
