BEGIN:VCALENDAR
PRODID:-//eluceo/ical//2.0/EN
VERSION:2.0
CALSCALE:GREGORIAN
BEGIN:VEVENT
UID:a825b85f72ace6df33063bba123f3461
DTSTAMP:20260423T071955Z
SUMMARY:Beth Tikvah First Day of Hebrew School
DESCRIPTION:Jewish Federation of Central Massachusetts\nCalendar\nhttps://j
 ewishcentralmass.org/calendar/19cal532\n\nBeth Tikvah First Day of Hebrew 
 School
DTSTART;TZID=America/New_York:20180923T090000
DTEND;TZID=America/New_York:20180923T235959
END:VEVENT
END:VCALENDAR
