BEGIN:VCALENDAR
PRODID:-//eluceo/ical//2.0/EN
VERSION:2.0
CALSCALE:GREGORIAN
BEGIN:VEVENT
UID:790995cdc2161dc0a3086b515434142b
DTSTAMP:20260422T154133Z
SUMMARY:JFCM YAD Pre Sukkot Wine Tasting Event
DESCRIPTION:Jewish Federation of Central Massachusetts\nCalendar\nhttps://j
 ewishcentralmass.org/calendar/19cal531\n\nJFCM YAD Pre Sukkot Wine Tasting
  Event
DTSTART;TZID=America/New_York:20180922T190000
DTEND;TZID=America/New_York:20180922T235959
END:VEVENT
END:VCALENDAR
