BEGIN:VCALENDAR
PRODID:-//eluceo/ical//2.0/EN
VERSION:2.0
CALSCALE:GREGORIAN
BEGIN:VEVENT
UID:0956b585c49c0ccda1697f8dc0bac36d
DTSTAMP:20260422T160146Z
SUMMARY:Congregation Beth Israel First Day of Hebrew School
DESCRIPTION:Jewish Federation of Central Massachusetts\nCalendar\nhttps://j
 ewishcentralmass.org/calendar/19cal530\n\nCongregation Beth Israel First D
 ay of Hebrew School
DTSTART;TZID=America/New_York:20180922T090000
DTEND;TZID=America/New_York:20180922T235959
END:VEVENT
END:VCALENDAR
