BEGIN:VCALENDAR
PRODID:-//eluceo/ical//2.0/EN
VERSION:2.0
CALSCALE:GREGORIAN
BEGIN:VEVENT
UID:86b971c98abd0b433c9da1cb0609a498
DTSTAMP:20260423T032932Z
SUMMARY:Yom Kippur
DESCRIPTION:Jewish Federation of Central Massachusetts\nCalendar\nhttps://j
 ewishcentralmass.org/calendar/19cal529\n\nYom Kippur
DTSTART;TZID=America/New_York:20180919T000100
DTEND;TZID=America/New_York:20180919T235959
END:VEVENT
END:VCALENDAR
