BEGIN:VCALENDAR
PRODID:-//eluceo/ical//2.0/EN
VERSION:2.0
CALSCALE:GREGORIAN
BEGIN:VEVENT
UID:014df892179254adf70f6aa6105c3c8e
DTSTAMP:20260422T184259Z
SUMMARY:Kol Nidre
DESCRIPTION:Jewish Federation of Central Massachusetts\nCalendar\nhttps://j
 ewishcentralmass.org/calendar/19cal528\n\nKol Nidre
DTSTART;TZID=America/New_York:20180918T000100
DTEND;TZID=America/New_York:20180918T235959
END:VEVENT
END:VCALENDAR
