BEGIN:VCALENDAR
PRODID:-//eluceo/ical//2.0/EN
VERSION:2.0
CALSCALE:GREGORIAN
BEGIN:VEVENT
UID:e840a70247a42f1327d082269b9019b1
DTSTAMP:20260422T154113Z
SUMMARY:Jewish Healthcare Center Board Meeting
DESCRIPTION:Jewish Federation of Central Massachusetts\nCalendar\nhttps://j
 ewishcentralmass.org/calendar/19cal527\n\nJewish Healthcare Center Board M
 eeting
DTSTART;TZID=America/New_York:20180917T193000
DTEND;TZID=America/New_York:20180917T235959
END:VEVENT
END:VCALENDAR
