BEGIN:VCALENDAR
PRODID:-//eluceo/ical//2.0/EN
VERSION:2.0
CALSCALE:GREGORIAN
BEGIN:VEVENT
UID:49afb18a62931c71eccc759400865937
DTSTAMP:20260425T162247Z
SUMMARY:Congregation Beth Israel Apple Picking
DESCRIPTION:Jewish Federation of Central Massachusetts\nCalendar\nhttps://j
 ewishcentralmass.org/calendar/19cal525\n\nCongregation Beth Israel Apple P
 icking
DTSTART;TZID=America/New_York:20180916T123000
DTEND;TZID=America/New_York:20180916T235959
END:VEVENT
END:VCALENDAR
